BEGIN:VCALENDAR
VERSION:2.0
PRODID:-//eventon.com NONSGML v1.0//EN
CALSCALE:GREGORIAN
METHOD:PUBLISH
BEGIN:VEVENT
UID:69e5f665dff0a
DTSTAMP:20260420T094821Z
DTSTART:20261103T110000Z
DTEND:20261103T120000Z
LOCATION:
SUMMARY:Trustees Meeting
DESCRIPTION:November Meeting\nhttps://www.cilpk.org.uk/events/trustees-meet
 ing-copy/
URL:https://www.cilpk.org.uk/events/trustees-meeting-copy/
END:VEVENT
END:VCALENDAR