BEGIN:VCALENDAR
VERSION:2.0
PRODID:-//eventon.com NONSGML v1.0//EN
CALSCALE:GREGORIAN
METHOD:PUBLISH
BEGIN:VEVENT
UID:69e5f66bc39ab
DTSTAMP:20260420T094827Z
DTSTART:20261118T110000Z
DTEND:20261118T120000Z
LOCATION:
SUMMARY:Members Meeting
DESCRIPTION:Members Meeting\nhttps://www.cilpk.org.uk/events/members-meetin
 g-6/
URL:https://www.cilpk.org.uk/events/members-meeting-6/
END:VEVENT
END:VCALENDAR