BEGIN:VCALENDAR
VERSION:2.0
PRODID:-//eventon.com NONSGML v1.0//EN
CALSCALE:GREGORIAN
METHOD:PUBLISH
BEGIN:VEVENT
UID:69e5f68142266
DTSTAMP:20260420T094849Z
DTSTART:20261008T110000Z
DTEND:20261008T123000Z
LOCATION:
SUMMARY:Disability Champions
DESCRIPTION:October Meeting for Disability Champions\nhttps://www.cilpk.org
 .uk/events/disability-champions-5/
URL:https://www.cilpk.org.uk/events/disability-champions-5/
END:VEVENT
END:VCALENDAR