BEGIN:VCALENDAR
VERSION:2.0
PRODID:-//eventon.com NONSGML v1.0//EN
CALSCALE:GREGORIAN
METHOD:PUBLISH
BEGIN:VEVENT
UID:69e5f665a1760
DTSTAMP:20260420T094821Z
DTSTART:20261007T110000Z
DTEND:20261007T120000Z
LOCATION:
SUMMARY:Hear Our Roar
DESCRIPTION:Hear Our Roar\nhttps://www.cilpk.org.uk/events/hear-our-roar-6/
URL:https://www.cilpk.org.uk/events/hear-our-roar-6/
END:VEVENT
END:VCALENDAR