BEGIN:VCALENDAR
VERSION:2.0
PRODID:-//eventon.com NONSGML v1.0//EN
CALSCALE:GREGORIAN
METHOD:PUBLISH
BEGIN:VEVENT
UID:69e5f66b94231
DTSTAMP:20260420T094827Z
DTSTART:20260908T110000Z
DTEND:20260908T120000Z
LOCATION:
SUMMARY:Trustees Meeting
DESCRIPTION:September Meeting\nhttps://www.cilpk.org.uk/events/trustees-mee
 ting-5/
URL:https://www.cilpk.org.uk/events/trustees-meeting-5/
END:VEVENT
END:VCALENDAR