BEGIN:VCALENDAR
VERSION:2.0
PRODID:-//eventon.com NONSGML v1.0//EN
CALSCALE:GREGORIAN
METHOD:PUBLISH
BEGIN:VEVENT
UID:69e5f6a98a9bc
DTSTAMP:20260420T094929Z
DTSTART:20260813T110000Z
DTEND:20260813T123000Z
LOCATION:
SUMMARY:Disability Champions
DESCRIPTION:August Meeting for Disability Champions\nhttps://www.cilpk.org.
 uk/events/disability-champions-4/
URL:https://www.cilpk.org.uk/events/disability-champions-4/
END:VEVENT
END:VCALENDAR