BEGIN:VCALENDAR
VERSION:2.0
PRODID:-//eventon.com NONSGML v1.0//EN
CALSCALE:GREGORIAN
METHOD:PUBLISH
BEGIN:VEVENT
UID:69e5f68029de7
DTSTAMP:20260420T094848Z
DTSTART:20260707T110000Z
DTEND:20260707T120000Z
LOCATION:
SUMMARY:Trustees Meeting
DESCRIPTION:July Meeting\nhttps://www.cilpk.org.uk/events/trustees-meeting-
 4/
URL:https://www.cilpk.org.uk/events/trustees-meeting-4/
END:VEVENT
END:VCALENDAR