BEGIN:VCALENDAR
VERSION:2.0
PRODID:-//eventon.com NONSGML v1.0//EN
CALSCALE:GREGORIAN
METHOD:PUBLISH
BEGIN:VEVENT
UID:69e5f6a8a64c9
DTSTAMP:20260420T094928Z
DTSTART:20251210T110000Z
DTEND:20251210T120000Z
LOCATION:
SUMMARY:Hear Our Roar - December
DESCRIPTION:Hear Our Roar&nbsp;: Over the past year\,  Perth and Kinross HS
 CP has been working closely with the Centre for Inclusive Living Perth and 
 Kinross (CILPK) to create Hear Our Roar\,  a group for adults with learning
  disabilities living in Perth and Kinross. The goal of this group is to ens
 ure[..]\nhttps://www.cilpk.org.uk/events/hear-our-roar-december/
URL:https://www.cilpk.org.uk/events/hear-our-roar-december/
END:VEVENT
END:VCALENDAR